BEGIN:VCALENDAR
VERSION:2.0
PRODID:spatie/icalendar-generator
DESCRIPTION:Events from Ayuntamiento de Fréscano
X-WR-CALDESC:Events from Ayuntamiento de Fréscano
REFRESH-INTERVAL;VALUE=DURATION:PT1440M
X-PUBLISHED-TTL:PT1440M
BEGIN:VTIMEZONE
TZID:Etc/GMT+0
BEGIN:STANDARD
DTSTART:20240319T163000Z
TZOFFSETFROM:+0000
TZOFFSETTO:+0000
END:STANDARD
END:VTIMEZONE
BEGIN:VTIMEZONE
TZID:UTC
BEGIN:STANDARD
DTSTART:20250725T094847Z
TZOFFSETFROM:+0000
TZOFFSETTO:+0000
END:STANDARD
END:VTIMEZONE
BEGIN:VEVENT
UID:8-8
DTSTAMP:20260421T094847Z
SUMMARY:Taller de ganchillo
LOCATION:
ORGANIZER;CN=adminmcclic:MAILTO:ayuntamientos@mcclic.com
DTSTART;TZID=Etc/GMT+0:20241214T163000
DTEND;TZID=Etc/GMT+0:20241214T173000
X-ALT-DESC;FMTTYPE=TEXT/HTML:
CATEGORIES:General
URL;VALUE=URI:https://frescano.es/mc-events/taller-de-ganchillo/
METHOD:PUBLISH
END:VEVENT
END:VCALENDAR